BEGIN:VCALENDAR
VERSION:2.0
PRODID:-//Clean Air for Bristol - ECPv4.6.18//NONSGML v1.0//EN
CALSCALE:GREGORIAN
METHOD:PUBLISH
X-WR-CALNAME:Clean Air for Bristol
X-ORIGINAL-URL:https://www.cleanairforbristol.org
X-WR-CALDESC:Events for Clean Air for Bristol
BEGIN:VEVENT
DTSTART;TZID=Europe/London:20180619T110000
DTEND;TZID=Europe/London:20180619T183000
DTSTAMP:20180626T085321
CREATED:20180618T101814Z
LAST-MODIFIED:20180618T113754Z
UID:1328-1529406000-1529433000@www.cleanairforbristol.org
SUMMARY:Inhale - Sculpture by Luke Jerram
DESCRIPTION:On 19th June\, Inhale\, the 3.1m mega-diesel soot particle will be migrating its way through the city’s streets\, just like the real pollutants circulating our air. \nAfter its first successful outing at Festival of Nature on 9-10th June\, where it attracted the attention of 15\,000 visitors\, Inhale will make its way along Rupert Street – the centre’s most polluted street – during rush hour on 19th before ‘settling’ on College Green – for one day only. The event hopes to draw people’s attention to national Clean Air Day on 21st June and spark conversations around what we can all do to shape our city for the better. \n \nDiesel soot was chosen as the focus of the artwork as diesel vehicles are a significant contributor towards air pollution in the UK in particular. In Bristol\, air pollution is thought to contribute to five deaths a week. Materials used in the sculpture reflect the makeup of an emitted diesel soot particle\, with coal representing the particle’s black carbon\, pyrite representing the metal residue shed from exhaust and brake pads and calcite to represent the chipped road surface. \nCommissioned by UWE Bristol\, Luke Jerram – the acclaimed artist behind the Museum of the Moon (currently touring internationally) and the giant waterslide ‘Park and Slide’ in Bristol’s Park Street in 2014 – produced the sculpture. Luke\, UWE Visiting Senior Research Fellow\, said: “The artwork was in part inspired by the recent VW Diesel scandal.  Finding out there are more than 15 carconagens present in Diesel exhaust was scary. I hope this artwork adds to the pressure on our government to stop its support for all polluting forms of transport”.   \nThis event was made possible by Our City Our Health a UWE Bristol public engagement project communicating the science from national research project called UPSTREAM. Led by UWE Bristol\, UPSTREAM is a cross-disciplinary project combining expertise from economics\, public health and ecology\, and backed by a panel of experts in urban development\, policy and impact. \nWorking with some of Bristol’s best-loved artists\, Our City Our Health will be capturing public opinion on priorities for a healthier\, more sustainable city throughout 2018. \nFunded by the Wellcome Trust. \n  \n  \nShare this:TwitterFacebookLinkedInGooglePinterestPrint
URL:https://www.cleanairforbristol.org/event/inhale-sculpture-by-luke-jerram/
END:VEVENT
BEGIN:VEVENT
DTSTART;VALUE=DATE:20180621
DTEND;VALUE=DATE:20180622
DTSTAMP:20180626T085321
CREATED:20180607T141051Z
LAST-MODIFIED:20180617T121453Z
UID:1297-1529539200-1529625599@www.cleanairforbristol.org
SUMMARY:National Clean Air Day
DESCRIPTION:Various events\, various organisers and hosts\, various locations – see event listings for detail \nShare this:TwitterFacebookLinkedInGooglePinterestPrint
URL:https://www.cleanairforbristol.org/event/national-clean-air-day/
END:VEVENT
BEGIN:VEVENT
DTSTART;TZID=Europe/London:20180621T100000
DTEND;TZID=Europe/London:20180621T140000
DTSTAMP:20180626T085321
CREATED:20180617T110508Z
LAST-MODIFIED:20180617T110508Z
UID:1307-1529575200-1529589600@www.cleanairforbristol.org
SUMMARY:Clean Air Day at Southmead Hospital
DESCRIPTION:North Bristol NHS Trust will be celebrating Clean Air Day on the 21st June in order to raise staff and patient awareness of the link between air pollution and respiratory and cardiac illness. \nBetween 10am and 2pm there will be a stall in the atrium of the Brunel building at Southmead Hospital\, loaded with information about air pollution and the practical steps we can all take to lessen the impact of it on our health. \nWe’ll also be promoting our own ‘Switch Off When You Drop Off’ campaign to help reduce emissions on-site. \nCome along to chat\, find out more and make a pledge with us to tackle the causes of air pollution! \nShare this:TwitterFacebookLinkedInGooglePinterestPrint
URL:https://www.cleanairforbristol.org/event/clean-air-day-at-southmead-hospital/
END:VEVENT
BEGIN:VEVENT
DTSTART;TZID=Europe/London:20180621T100000
DTEND;TZID=Europe/London:20180621T100000
DTSTAMP:20180626T085321
CREATED:20180617T110906Z
LAST-MODIFIED:20180617T110906Z
UID:1312-1529575200-1529575200@www.cleanairforbristol.org
SUMMARY:TRESA stall for National Clean Air Day
DESCRIPTION:Totterdown Residents Environmental & Social Action (TRESA) will be in Totterdown Square (between the Oxford Pub and Tescos) from 10:00 am to mark National Clean Air Day in Totterdown. \nCome and find out what you can do and how you can pledge support for cleaner air for yourself and your family at our TRESA stall outside Tesco on Wells Road. \nJoin the movement for a cleaner healthier Totterdown! \nShare this:TwitterFacebookLinkedInGooglePinterestPrint
URL:https://www.cleanairforbristol.org/event/tresa-stall-for-national-clean-air-day/
END:VEVENT
BEGIN:VEVENT
DTSTART;TZID=Europe/London:20180621T123000
DTEND;TZID=Europe/London:20180621T183000
DTSTAMP:20180626T085321
CREATED:20180607T140914Z
LAST-MODIFIED:20180607T140914Z
UID:1302-1529584200-1529605800@www.cleanairforbristol.org
SUMMARY:Clean Air for Bristol Public Drop-in event\, College Green
DESCRIPTION:Come and find out about air pollution\, the health impacts – and the Clean Air Plan which aims to help fix the problem.  There’ll be a handful of gazebos in College Green with knowledgeable staff members to talk to\, maps and diagrams to help explain the proposals\, advice on personal travel\, and even a pedal powered smoothie maker to refresh after all that talking.  More TBC. \nShare this:TwitterFacebookLinkedInGooglePinterestPrint
URL:https://www.cleanairforbristol.org/event/clean-air-for-bristol-public-drop-in-event-college-green/
ORGANIZER;CN="air.quality%40bristol.gov.uk":MAILTO:air.quality@bristol.gov.uk
END:VEVENT
BEGIN:VEVENT
DTSTART;TZID=Europe/London:20180621T153000
DTEND;TZID=Europe/London:20180621T173000
DTSTAMP:20180626T085321
CREATED:20180617T113603Z
LAST-MODIFIED:20180617T113808Z
UID:1317-1529595000-1529602200@www.cleanairforbristol.org
SUMMARY:Build your own pollution sensor and other activities
DESCRIPTION:Knowle West Media Centre to raise awareness of air pollution and how you can build your own sensor to detect particulate matter. \nEvent co-run with Bristol Friends of the Earth. There’ll also be information from other local groups such as how to make your home smarter. \nDrop in event – come for as long or short as you like. \n3:30 pm – 5:30 pm Felix Road Adventure Playground \nShare this:TwitterFacebookLinkedInGooglePinterestPrint
URL:https://www.cleanairforbristol.org/event/build-your-own-pollution-sensor-and-other-activities/
END:VEVENT
BEGIN:VEVENT
DTSTART;TZID=Europe/London:20180621T180000
DTEND;TZID=Europe/London:20180621T190000
DTSTAMP:20180626T085321
CREATED:20180617T120226Z
LAST-MODIFIED:20180620T135248Z
UID:1324-1529604000-1529607600@www.cleanairforbristol.org
SUMMARY:Clean Air Community Call-Out\, Bishopston
DESCRIPTION:Community Call-Out: \nA short\, informal event: join others\, find out more\, celebrate and share pledges further\, and hear from guest speakers. These include: \n\nEleanor Combley (Bishopston Councillor and Bristol Green Party Leader): Air pollution as a public health emergency – institutional and individual responses\nGavin Spittlehouse (Sustainable Bishopston and Clean Air Bishopston): How clean is the air locally? Demonstration of self-help air quality monitoring\nJessica Read (Advocate for healthy\, inclusive cities\, and Transport Engineer) Air quality and its impact on our children\nDiscussion\, Q & A\n\nPlease arrive promptly – BTP will be open for refreshments as usual. Be ready to leave BTP at 7pm closing time. \nClean air walk straight afterwards. \n6-7pm Thursday 21st June at Boston Tea Party\, 293 Gloucester Road\, Bishopston\, Bristol BS7 8PE (corner of Nevil Road) \nFor more details see http://www.bishopstonsociety.org.uk/cab \nShare this:TwitterFacebookLinkedInGooglePinterestPrint
URL:https://www.cleanairforbristol.org/event/clean-air-community-call-out-bishopston/
LOCATION:293 Gloucester Road
END:VEVENT
END:VCALENDAR